Workbook

Sheet 総括請求書
B2: 総 括 請 求 書
B3: 中村土木株式会社 御中 | I3: No. | J3: 1001
I4: 請求日 | J4: 45230
B5: 下記のとおり、御請求申し上げます。 | J5: 10
B6: 振込先 | H6: 郵便番号 -
B7: 振込銀行(ｺｰﾄﾞ)
B8: 支店(ｺｰﾄﾞ)
B9: 口座番号
B10: 口座名 | H10: TEL：
H11: FAX：
B12: 合計 | C12: =H27 -> 0 | H12: 登録番号：T
B15: 中村土木担当区分 | E15: 数量 | F15: 単位 | G15: 税率 | H15: 請求金額 | I15: 支払金額 (中村土木使用)
B16: 一般土木 | E16: 1 | F16: 式 | G16: 0.1 | H16: =ROUND(N(一般土木１!BK59)+N(一般土木２!BK59)+N(一般土木３!BK59),0) -> 0
B17: ＮＤ土留 | E17: 1 | F17: 式 | G17: 0.1 | H17: =ROUND(N(ND土留１!BK59)+N(ND土留２!BK59)+N(ND土留３!BK59),0) -> 0
B18: 丸セパアングル | E18: 1 | F18: 式 | G18: 0.1 | H18: =ROUND(N(丸セパアングル１!BK59)+N(丸セパアングル２!BK59)+N(丸セパアングル３!BK59),0) -> 0
B19: その他 | E19: 1 | F19: 式 | G19: 0.1 | H19: =ROUND(N(その他１!BK59)+N(その他２!BK59)+N(その他３!BK59),0) -> 0
B20: 非課税分 | E20: 1 | F20: 式 | G20: 0 | H20: =ROUND(N(非課税分!BK59),0) -> 0
F21: 式 | G21: 0
F22: 式 | G22: 0.1
B23: 軽油税 | E23: 1 | F23: 式 | G23: 0
B24: ※は軽減税率対象 | F24: 小計 | H24: =SUM(H16:H23) -> 0
F25: 消費税 | H25: =ROUNDDOWN((H16*G16+H17*G17+H18*G18+H19*G19+H20*G20+H21*G21+H22*G22+H23*G23),0) -> 0
B26: 税率別内訳 | C26: 税抜金額 | D26: 消費税額 | F26: 端数処理
B27: 10%対象 | C27: =SUMIF(G16:G23,10%,H16:H23) -> 0 | D27: =ROUNDDOWN(C27*0.1,0) -> 0 | F27: 合計 | H27: =H24+H25+H26 -> 0
B28: 軽減8%対象 | C28: =SUMIF(G16:G23,8%,H16:H23) -> 0 | D28: =ROUNDDOWN(C28*0.08,0) -> 0
B29: 0%対象 | C29: =SUMIF(G16:G23,0%,H16:H23) -> 0 | D29: 0
B31: ※請求書締日【月末締・翌月５日 本社必着】（当社休日の場合は前倒し営業日）遅れた場合は翌月払となります。
B32: ※出来高残のある場合は再度必着日迄に請求書を提出して下さい。
B33: ※中村土木担当区分は別紙詳細の区分毎の合計金額が転記されます。
B34: ※消費税は合計の消費税小数点以下を切り捨てします。

Sheet 一般土木１
B2: =総括請求書!B3 -> 中村土木株式会社 御中 | AM2: 請 求 書 | CA2: =総括請求書!H6 -> 郵便番号 -
CA4: =総括請求書!H7
CA6: =総括請求書!H8
B9: 下記のとおり請求申し上げます。 | BJ9: 中村土木担当区分 | BY9: 一般土木 | CJ9: 請求 | CO9: 2023 | CU9: 年 | CW9: 10 | CZ9: 月度
B13: 工事番号 | K13: 工事名 | AB13: 税率 | AE13: 契約金額 | AN13: 当月末 出来高％ | AS13: 未契約金額 | BB13: 既受領金額 | BK13: 当月請求額 | BT13: 査 定 金 額 | CC13: 相殺 | CL13: 残 額 | CU13: 総支払金額
AE16: 注文書取交金額 | CC16: 赤で記入
AB18: 10 | BK18: =IF(OR(AE18>0,AS18>0,BB18>0),(AE18+AS18)*AN18-BB18,"")
CU21: 契約印 | CX21: C・B
K22: 中村土木担当者名
AB24: 10 | BK24: =IF(OR(AE24>0,AS24>0,BB24>0),(AE24+AS24)*AN24-BB24,"")
CU27: 契約印 | CX27: C・B
K28: 中村土木担当者名
AB30: 10 | BK30: =IF(OR(AE30>0,AS30>0,BB30>0),(AE30+AS30)*AN30-BB30,"")
CU33: 契約印 | CX33: C・B
K34: 中村土木担当者名
AB36: 10 | BK36: =IF(OR(AE36>0,AS36>0,BB36>0),(AE36+AS36)*AN36-BB36,"")
CU39: 契約印 | CX39: C・B
K40: 中村土木担当者名
AB42: 10 | BK42: =IF(OR(AE42>0,AS42>0,BB42>0),(AE42+AS42)*AN42-BB42,"")
CU45: 契約印 | CX45: C・B
K46: 中村土木担当者名
AB48: 10 | BK48: =IF(OR(AE48>0,AS48>0,BB48>0),(AE48+AS48)*AN48-BB48,"")
CU51: 契約印 | CX51: C・B
K52: 中村土木担当者名
K54: 小 計 | AE54: =IF(SUM(AE18:AM53)>0,SUM(AE18:AM53),"") | AS54: =IF(SUM(AS18:BA53)>0,SUM(AS18:BA53),"") | BB54: =IF(SUM(BB18:BJ53)>0,SUM(BB18:BJ53),"") | BK54: =IF(SUM(BK18:BS53)>0,SUM(BK18:BS53),"")
B59: 次ページがある場合 合計は記入しない | K59: 合 計 | AE59: =IF(BK59<>"",AE54,"") | AS59: =IF(BK59<>"",AS54,"") | BB59: =IF(BK59<>"",BB54,"") | BK59: =IF(AND(BK54<>"",一般土木２!BK54<>""),"",BK54)
B65: ※請求書締日【月末締・翌月５日 本社必着】（当社休日の場合は前倒し営業日）遅れた場合は翌月払となります。 | CT65: １ページ
B67: ※出来高残のある場合は再度必着日迄に請求書を提出して下さい。
B69: ※太線枠内を全て記入して下さい。 | CL69: 担当 | CS69: 担当 | CZ69: 受付
B71: ※契約分については工事番号を記入して下さい。
B73: ※未契約分については内訳明細書を添付して下さい。
B75: ※中村土木担当区分は一般土木・ND土留・丸セパアングル・
B77: その他をシートごとにご記入の上それぞれを提出お願いします。

Sheet 一般土木２
B2: =総括請求書!B3 -> 中村土木株式会社 御中 | AM2: 請 求 書 | CA2: =総括請求書!H6 -> 郵便番号 -
CA4: =総括請求書!H7
CA6: =総括請求書!H8
B9: 下記のとおり請求申し上げます。 | BJ9: 中村土木担当区分 | BY9: 一般土木 | CJ9: 請求 | CO9: 2023 | CU9: 年 | CW9: 10 | CZ9: 月度
B13: 工事番号 | K13: 工事名 | AB13: 税率 | AE13: 契約金額 | AN13: 当月末 出来高％ | AS13: 未契約金額 | BB13: 既受領金額 | BK13: 当月請求額 | BT13: 査 定 金 額 | CC13: 相殺 | CL13: 残 額 | CU13: 総支払金額
AE16: 注文書取交金額 | CC16: 赤で記入
AB18: 10 | BK18: =IF(OR(AE18>0,AS18>0,BB18>0),(AE18+AS18)*AN18-BB18,"")
CU21: 契約印 | CX21: C・B
K22: 中村土木担当者名
AB24: 10 | BK24: =IF(OR(AE24>0,AS24>0,BB24>0),(AE24+AS24)*AN24-BB24,"")
CU27: 契約印 | CX27: C・B
K28: 中村土木担当者名
AB30: 10 | BK30: =IF(OR(AE30>0,AS30>0,BB30>0),(AE30+AS30)*AN30-BB30,"")
CU33: 契約印 | CX33: C・B
K34: 中村土木担当者名
AB36: 10 | BK36: =IF(OR(AE36>0,AS36>0,BB36>0),(AE36+AS36)*AN36-BB36,"")
CU39: 契約印 | CX39: C・B
K40: 中村土木担当者名
AB42: 10 | BK42: =IF(OR(AE42>0,AS42>0,BB42>0),(AE42+AS42)*AN42-BB42,"")
CU45: 契約印 | CX45: C・B
K46: 中村土木担当者名
AB48: 10 | BK48: =IF(OR(AE48>0,AS48>0,BB48>0),(AE48+AS48)*AN48-BB48,"")
CU51: 契約印 | CX51: C・B
K52: 中村土木担当者名
K54: 小 計 | AE54: =IF(SUM(AE18:AM53)>0,SUM(AE18:AM53),"") | AS54: =IF(SUM(AS18:BA53)>0,SUM(AS18:BA53),"") | BB54: =IF(SUM(BB18:BJ53)>0,SUM(BB18:BJ53),"") | BK54: =IF(SUM(BK18:BS53)>0,SUM(BK18:BS53),"")
B59: 次ページがある場合 合計は記入しない | K59: 合 計 | AE59: =IF(BK59<>"",N(一般土木１!AE54)+N(AE54),"") | AS59: =IF(BK59<>"",N(一般土木１!AS54)+N(AS54),"") | BB59: =IF(BK59<>"",N(一般土木１!BB54)+N(BB54),"") | BK59: =IF(AND(BK54<>"",一般土木３!BK54=""),N(一般土木１!BK54)+N(BK54),"")
B65: ※請求書締日【月末締・翌月５日 本社必着】（当社休日の場合は前倒し営業日）遅れた場合は翌月払となります。 | CT65: ２ページ
B67: ※出来高残のある場合は再度必着日迄に請求書を提出して下さい。
B69: ※太線枠内を全て記入して下さい。 | CL69: 担当 | CS69: 担当 | CZ69: 受付
B71: ※契約分については工事番号を記入して下さい。
B73: ※未契約分については内訳明細書を添付して下さい。
B75: ※中村土木担当区分は一般土木・ND土留・丸セパアングル・
B77: その他をシートごとにご記入の上それぞれ提出をお願いします。

Sheet 一般土木３
B2: =総括請求書!B3 -> 中村土木株式会社 御中 | AM2: 請 求 書 | CA2: =総括請求書!H6 -> 郵便番号 -
CA4: =総括請求書!H7
CA6: =総括請求書!H8
B9: 下記のとおり請求申し上げます。 | BJ9: 中村土木担当区分 | BY9: 一般土木 | CJ9: 請求 | CO9: 2023 | CU9: 年 | CW9: 10 | CZ9: 月度
B13: 工事番号 | K13: 工事名 | AB13: 税率 | AE13: 契約金額 | AN13: 当月末 出来高％ | AS13: 未契約金額 | BB13: 既受領金額 | BK13: 当月請求額 | BT13: 査 定 金 額 | CC13: 相殺 | CL13: 残 額 | CU13: 総支払金額
AE16: 注文書取交金額 | CC16: 赤で記入
AB18: 10 | BK18: =IF(OR(AE18>0,AS18>0,BB18>0),(AE18+AS18)*AN18-BB18,"")
CU21: 契約印 | CX21: C・B
K22: 中村土木担当者名
AB24: 10 | BK24: =IF(OR(AE24>0,AS24>0,BB24>0),(AE24+AS24)*AN24-BB24,"")
CU27: 契約印 | CX27: C・B
K28: 中村土木担当者名
AB30: 10 | BK30: =IF(OR(AE30>0,AS30>0,BB30>0),(AE30+AS30)*AN30-BB30,"")
CU33: 契約印 | CX33: C・B
K34: 中村土木担当者名
AB36: 10 | BK36: =IF(OR(AE36>0,AS36>0,BB36>0),(AE36+AS36)*AN36-BB36,"")
CU39: 契約印 | CX39: C・B
K40: 中村土木担当者名
AB42: 10 | BK42: =IF(OR(AE42>0,AS42>0,BB42>0),(AE42+AS42)*AN42-BB42,"")
CU45: 契約印 | CX45: C・B
K46: 中村土木担当者名
AB48: 10 | BK48: =IF(OR(AE48>0,AS48>0,BB48>0),(AE48+AS48)*AN48-BB48,"")
CU51: 契約印 | CX51: C・B
K52: 中村土木担当者名
K54: 小 計 | AE54: =IF(SUM(AE18:AM53)>0,SUM(AE18:AM53),"") | AS54: =IF(SUM(AS18:BA53)>0,SUM(AS18:BA53),"") | BB54: =IF(SUM(BB18:BJ53)>0,SUM(BB18:BJ53),"") | BK54: =IF(SUM(BK18:BS53)>0,SUM(BK18:BS53),"")
B59: 次ページがある場合 合計は記入しない | K59: 合 計 | AE59: =IF(BK59<>"",N(一般土木１!AE54)+N(一般土木２!AE54)+N(AE54),"") | AS59: =IF(BK59<>"",N(一般土木１!AS54)+N(一般土木２!AS54)+N(AS54),"") | BB59: =IF(BK59<>"",N(一般土木１!BB54)+N(一般土木２!BB54)+N(BB54),"") | BK59: =IF(BK54<>"",N(一般土木１!BK54)+N(一般土木２!BK54)+N(BK54),"")
B65: ※請求書締日【月末締・翌月５日 本社必着】（当社休日の場合は前倒し営業日）遅れた場合は翌月払となります。 | CT65: ３ページ
B67: ※出来高残のある場合は再度必着日迄に請求書を提出して下さい。
B69: ※太線枠内を全て記入して下さい。 | CL69: 担当 | CS69: 担当 | CZ69: 受付
B71: ※契約分については工事番号を記入して下さい。
B73: ※未契約分については内訳明細書を添付して下さい。
B75: ※中村土木担当区分は一般土木・ND土留・丸セパアングル・
B77: その他をシートごとにご記入の上それぞれ提出をお願いします。

Sheet ND土留１
B2: =総括請求書!B3 -> 中村土木株式会社 御中 | AM2: 請 求 書 | CA2: =総括請求書!H6 -> 郵便番号 -
CA4: =総括請求書!H7
CA6: =総括請求書!H8
B9: 下記のとおり請求申し上げます。 | BJ9: 中村土木担当区分 | BY9: ND土留 | CJ9: 請求 | CO9: 2023 | CU9: 年 | CW9: 10 | CZ9: 月度
B13: 工事番号 | K13: 工事名 | AB13: 税率 | AE13: 契約金額 | AN13: 当月末 出来高％ | AS13: 未契約金額 | BB13: 既受領金額 | BK13: 当月請求額 | BT13: 査 定 金 額 | CC13: 相殺 | CL13: 残 額 | CU13: 総支払金額
AE16: 注文書取交金額 | CC16: 赤で記入
AB18: 10 | BK18: =IF(OR(AE18>0,AS18>0,BB18>0),(AE18+AS18)*AN18-BB18,"")
CU21: 契約印 | CX21: C・B
K22: 中村土木担当者名
AB24: 10 | BK24: =IF(OR(AE24>0,AS24>0,BB24>0),(AE24+AS24)*AN24-BB24,"")
CU27: 契約印 | CX27: C・B
K28: 中村土木担当者名
AB30: 10 | BK30: =IF(OR(AE30>0,AS30>0,BB30>0),(AE30+AS30)*AN30-BB30,"")
CU33: 契約印 | CX33: C・B
K34: 中村土木担当者名
AB36: 10 | BK36: =IF(OR(AE36>0,AS36>0,BB36>0),(AE36+AS36)*AN36-BB36,"")
CU39: 契約印 | CX39: C・B
K40: 中村土木担当者名
AB42: 10 | BK42: =IF(OR(AE42>0,AS42>0,BB42>0),(AE42+AS42)*AN42-BB42,"")
CU45: 契約印 | CX45: C・B
K46: 中村土木担当者名
AB48: 10 | BK48: =IF(OR(AE48>0,AS48>0,BB48>0),(AE48+AS48)*AN48-BB48,"")
CU51: 契約印 | CX51: C・B
K52: 中村土木担当者名
K54: 小 計 | AE54: =IF(SUM(AE18:AM53)>0,SUM(AE18:AM53),"") | AS54: =IF(SUM(AS18:BA53)>0,SUM(AS18:BA53),"") | BB54: =IF(SUM(BB18:BJ53)>0,SUM(BB18:BJ53),"") | BK54: =IF(SUM(BK18:BS53)>0,SUM(BK18:BS53),"")
B59: 次ページがある場合 合計は記入しない | K59: 合 計 | AE59: =IF(BK59<>"",AE54,"") | AS59: =IF(BK59<>"",AS54,"") | BB59: =IF(BK59<>"",BB54,"") | BK59: =IF(AND(BK54<>"",ND土留２!BK54<>""),"",BK54)
B65: ※請求書締日【月末締・翌月５日 本社必着】（当社休日の場合は前倒し営業日）遅れた場合は翌月払となります。 | CT65: １ページ
B67: ※出来高残のある場合は再度必着日迄に請求書を提出して下さい。
B69: ※太線枠内を全て記入して下さい。 | CL69: 担当 | CS69: 担当 | CZ69: 受付
B71: ※契約分については工事番号を記入して下さい。
B73: ※未契約分については内訳明細書を添付して下さい。
B75: ※中村土木担当区分は一般土木・ND土留・丸セパアングル・
B77: その他をシートごとにご記入の上それぞれを提出お願いします。

Sheet ND土留２
B2: =総括請求書!B3 -> 中村土木株式会社 御中 | AM2: 請 求 書 | CA2: =総括請求書!H6 -> 郵便番号 -
CA4: =総括請求書!H7
CA6: =総括請求書!H8
B9: 下記のとおり請求申し上げます。 | BJ9: 中村土木担当区分 | BY9: ND土留 | CJ9: 請求 | CO9: 2023 | CU9: 年 | CW9: 10 | CZ9: 月度
B13: 工事番号 | K13: 工事名 | AB13: 税率 | AE13: 契約金額 | AN13: 当月末 出来高％ | AS13: 未契約金額 | BB13: 既受領金額 | BK13: 当月請求額 | BT13: 査 定 金 額 | CC13: 相殺 | CL13: 残 額 | CU13: 総支払金額
AE16: 注文書取交金額 | CC16: 赤で記入
AB18: 10 | BK18: =IF(OR(AE18>0,AS18>0,BB18>0),(AE18+AS18)*AN18-BB18,"")
CU21: 契約印 | CX21: C・B
K22: 中村土木担当者名
AB24: 10 | BK24: =IF(OR(AE24>0,AS24>0,BB24>0),(AE24+AS24)*AN24-BB24,"")
CU27: 契約印 | CX27: C・B
K28: 中村土木担当者名
AB30: 10 | BK30: =IF(OR(AE30>0,AS30>0,BB30>0),(AE30+AS30)*AN30-BB30,"")
CU33: 契約印 | CX33: C・B
K34: 中村土木担当者名
AB36: 10 | BK36: =IF(OR(AE36>0,AS36>0,BB36>0),(AE36+AS36)*AN36-BB36,"")
CU39: 契約印 | CX39: C・B
K40: 中村土木担当者名
AB42: 10 | BK42: =IF(OR(AE42>0,AS42>0,BB42>0),(AE42+AS42)*AN42-BB42,"")
CU45: 契約印 | CX45: C・B
K46: 中村土木担当者名
AB48: 10 | BK48: =IF(OR(AE48>0,AS48>0,BB48>0),(AE48+AS48)*AN48-BB48,"")
CU51: 契約印 | CX51: C・B
K52: 中村土木担当者名
K54: 小 計 | AE54: =IF(SUM(AE18:AM53)>0,SUM(AE18:AM53),"") | AS54: =IF(SUM(AS18:BA53)>0,SUM(AS18:BA53),"") | BB54: =IF(SUM(BB18:BJ53)>0,SUM(BB18:BJ53),"") | BK54: =IF(SUM(BK18:BS53)>0,SUM(BK18:BS53),"")
B59: 次ページがある場合 合計は記入しない | K59: 合 計 | AE59: =IF(BK59<>"",N(ND土留１!AE54)+N(AE54),"") | AS59: =IF(BK59<>"",N(ND土留１!AS54)+N(AS54),"") | BB59: =IF(BK59<>"",N(ND土留１!BB54)+N(BB54),"") | BK59: =IF(AND(BK54<>"",ND土留３!BK54=""),N(ND土留１!BK54)+N(BK54),"")
B65: ※請求書締日【月末締・翌月５日 本社必着】（当社休日の場合は前倒し営業日）遅れた場合は翌月払となります。 | CT65: ２ページ
B67: ※出来高残のある場合は再度必着日迄に請求書を提出して下さい。
B69: ※太線枠内を全て記入して下さい。 | CL69: 担当 | CS69: 担当 | CZ69: 受付
B71: ※契約分については工事番号を記入して下さい。
B73: ※未契約分については内訳明細書を添付して下さい。
B75: ※中村土木担当区分は一般土木・ND土留・丸セパアングル・
B77: その他をシートごとにご記入の上それぞれ提出をお願いします。

Sheet ND土留３
B2: =総括請求書!B3 -> 中村土木株式会社 御中 | AM2: 請 求 書 | CA2: =総括請求書!H6 -> 郵便番号 -
CA4: =総括請求書!H7
CA6: =総括請求書!H8
B9: 下記のとおり請求申し上げます。 | BJ9: 中村土木担当区分 | BY9: ND土留 | CJ9: 請求 | CO9: 2023 | CU9: 年 | CW9: 10 | CZ9: 月度
B13: 工事番号 | K13: 工事名 | AB13: 税率 | AE13: 契約金額 | AN13: 当月末 出来高％ | AS13: 未契約金額 | BB13: 既受領金額 | BK13: 当月請求額 | BT13: 査 定 金 額 | CC13: 相殺 | CL13: 残 額 | CU13: 総支払金額
AE16: 注文書取交金額 | CC16: 赤で記入
AB18: 10 | BK18: =IF(OR(AE18>0,AS18>0,BB18>0),(AE18+AS18)*AN18-BB18,"")
CU21: 契約印 | CX21: C・B
K22: 中村土木担当者名
AB24: 10 | BK24: =IF(OR(AE24>0,AS24>0,BB24>0),(AE24+AS24)*AN24-BB24,"")
CU27: 契約印 | CX27: C・B
K28: 中村土木担当者名
AB30: 10 | BK30: =IF(OR(AE30>0,AS30>0,BB30>0),(AE30+AS30)*AN30-BB30,"")
CU33: 契約印 | CX33: C・B
K34: 中村土木担当者名
AB36: 10 | BK36: =IF(OR(AE36>0,AS36>0,BB36>0),(AE36+AS36)*AN36-BB36,"")
CU39: 契約印 | CX39: C・B
K40: 中村土木担当者名
AB42: 10 | BK42: =IF(OR(AE42>0,AS42>0,BB42>0),(AE42+AS42)*AN42-BB42,"")
CU45: 契約印 | CX45: C・B
K46: 中村土木担当者名
AB48: 10 | BK48: =IF(OR(AE48>0,AS48>0,BB48>0),(AE48+AS48)*AN48-BB48,"")
CU51: 契約印 | CX51: C・B
K52: 中村土木担当者名
K54: 小 計 | AE54: =IF(SUM(AE18:AM53)>0,SUM(AE18:AM53),"") | AS54: =IF(SUM(AS18:BA53)>0,SUM(AS18:BA53),"") | BB54: =IF(SUM(BB18:BJ53)>0,SUM(BB18:BJ53),"") | BK54: =IF(SUM(BK18:BS53)>0,SUM(BK18:BS53),"")
B59: 次ページがある場合 合計は記入しない | K59: 合 計 | AE59: =IF(BK59<>"",N(ND土留１!AE54)+N(ND土留２!AE54)+N(AE54),"") | AS59: =IF(BK59<>"",N(ND土留１!AS54)+N(ND土留２!AS54)+N(AS54),"") | BB59: =IF(BK59<>"",N(ND土留１!BB54)+N(ND土留２!BB54)+N(BB54),"") | BK59: =IF(BK54<>"",N(ND土留１!BK54)+N(ND土留２!BK54)+N(BK54),"")
B65: ※請求書締日【月末締・翌月５日 本社必着】（当社休日の場合は前倒し営業日）遅れた場合は翌月払となります。 | CT65: ３ページ
B67: ※出来高残のある場合は再度必着日迄に請求書を提出して下さい。
B69: ※太線枠内を全て記入して下さい。 | CL69: 担当 | CS69: 担当 | CZ69: 受付
B71: ※契約分については工事番号を記入して下さい。
B73: ※未契約分については内訳明細書を添付して下さい。
B75: ※中村土木担当区分は一般土木・ND土留・丸セパアングル・
B77: その他をシートごとにご記入の上それぞれ提出をお願いします。

Sheet 丸セパアングル１
B2: =総括請求書!B3 -> 中村土木株式会社 御中 | AM2: 請 求 書 | CA2: =総括請求書!H6 -> 郵便番号 -
CA4: =総括請求書!H7
CA6: =総括請求書!H8
B9: 下記のとおり請求申し上げます。 | BJ9: 中村土木担当区分 | BY9: 丸セパアングル | CJ9: 請求 | CO9: 2023 | CU9: 年 | CW9: 10 | CZ9: 月度
B13: 工事番号 | K13: 工事名 | AB13: 税率 | AE13: 契約金額 | AN13: 当月末 出来高％ | AS13: 未契約金額 | BB13: 既受領金額 | BK13: 当月請求額 | BT13: 査 定 金 額 | CC13: 相殺 | CL13: 残 額 | CU13: 総支払金額
AE16: 注文書取交金額 | CC16: 赤で記入
AB18: 10 | BK18: =IF(OR(AE18>0,AS18>0,BB18>0),(AE18+AS18)*AN18-BB18,"")
CU21: 契約印 | CX21: C・B
K22: 中村土木担当者名
AB24: 10 | BK24: =IF(OR(AE24>0,AS24>0,BB24>0),(AE24+AS24)*AN24-BB24,"")
CU27: 契約印 | CX27: C・B
K28: 中村土木担当者名
AB30: 10 | BK30: =IF(OR(AE30>0,AS30>0,BB30>0),(AE30+AS30)*AN30-BB30,"")
CU33: 契約印 | CX33: C・B
K34: 中村土木担当者名
AB36: 10 | BK36: =IF(OR(AE36>0,AS36>0,BB36>0),(AE36+AS36)*AN36-BB36,"")
CU39: 契約印 | CX39: C・B
K40: 中村土木担当者名
AB42: 10 | BK42: =IF(OR(AE42>0,AS42>0,BB42>0),(AE42+AS42)*AN42-BB42,"")
CU45: 契約印 | CX45: C・B
K46: 中村土木担当者名
AB48: 10 | BK48: =IF(OR(AE48>0,AS48>0,BB48>0),(AE48+AS48)*AN48-BB48,"")
CU51: 契約印 | CX51: C・B
K52: 中村土木担当者名
K54: 小 計 | AE54: =IF(SUM(AE18:AM53)>0,SUM(AE18:AM53),"") | AS54: =IF(SUM(AS18:BA53)>0,SUM(AS18:BA53),"") | BB54: =IF(SUM(BB18:BJ53)>0,SUM(BB18:BJ53),"") | BK54: =IF(SUM(BK18:BS53)>0,SUM(BK18:BS53),"")
B59: 次ページがある場合 合計は記入しない | K59: 合 計 | AE59: =IF(BK59<>"",AE54,"") | AS59: =IF(BK59<>"",AS54,"") | BB59: =IF(BK59<>"",BB54,"") | BK59: =IF(AND(BK54<>"",丸セパアングル２!BK54<>""),"",BK54)
B65: ※請求書締日【月末締・翌月５日 本社必着】（当社休日の場合は前倒し営業日）遅れた場合は翌月払となります。 | CT65: １ページ
B67: ※出来高残のある場合は再度必着日迄に請求書を提出して下さい。
B69: ※太線枠内を全て記入して下さい。 | CL69: 担当 | CS69: 担当 | CZ69: 受付
B71: ※契約分については工事番号を記入して下さい。
B73: ※未契約分については内訳明細書を添付して下さい。
B75: ※中村土木担当区分は一般土木・ND土留・丸セパアングル・
B77: その他をシートごとにご記入の上それぞれを提出お願いします。

Sheet 丸セパアングル２
B2: =総括請求書!B3 -> 中村土木株式会社 御中 | AM2: 請 求 書 | CA2: =総括請求書!H6 -> 郵便番号 -
CA4: =総括請求書!H7
CA6: =総括請求書!H8
B9: 下記のとおり請求申し上げます。 | BJ9: 中村土木担当区分 | BY9: 丸セパアングル | CJ9: 請求 | CO9: 2023 | CU9: 年 | CW9: 10 | CZ9: 月度
B13: 工事番号 | K13: 工事名 | AB13: 税率 | AE13: 契約金額 | AN13: 当月末 出来高％ | AS13: 未契約金額 | BB13: 既受領金額 | BK13: 当月請求額 | BT13: 査 定 金 額 | CC13: 相殺 | CL13: 残 額 | CU13: 総支払金額
AE16: 注文書取交金額 | CC16: 赤で記入
AB18: 10 | BK18: =IF(OR(AE18>0,AS18>0,BB18>0),(AE18+AS18)*AN18-BB18,"")
CU21: 契約印 | CX21: C・B
K22: 中村土木担当者名
AB24: 10 | BK24: =IF(OR(AE24>0,AS24>0,BB24>0),(AE24+AS24)*AN24-BB24,"")
CU27: 契約印 | CX27: C・B
K28: 中村土木担当者名
AB30: 10 | BK30: =IF(OR(AE30>0,AS30>0,BB30>0),(AE30+AS30)*AN30-BB30,"")
CU33: 契約印 | CX33: C・B
K34: 中村土木担当者名
AB36: 10 | BK36: =IF(OR(AE36>0,AS36>0,BB36>0),(AE36+AS36)*AN36-BB36,"")
CU39: 契約印 | CX39: C・B
K40: 中村土木担当者名
AB42: 10 | BK42: =IF(OR(AE42>0,AS42>0,BB42>0),(AE42+AS42)*AN42-BB42,"")
CU45: 契約印 | CX45: C・B
K46: 中村土木担当者名
AB48: 10 | BK48: =IF(OR(AE48>0,AS48>0,BB48>0),(AE48+AS48)*AN48-BB48,"")
CU51: 契約印 | CX51: C・B
K52: 中村土木担当者名
K54: 小 計 | AE54: =IF(SUM(AE18:AM53)>0,SUM(AE18:AM53),"") | AS54: =IF(SUM(AS18:BA53)>0,SUM(AS18:BA53),"") | BB54: =IF(SUM(BB18:BJ53)>0,SUM(BB18:BJ53),"") | BK54: =IF(SUM(BK18:BS53)>0,SUM(BK18:BS53),"")
B59: 次ページがある場合 合計は記入しない | K59: 合 計 | AE59: =IF(BK59<>"",N(丸セパアングル１!AE54)+N(AE54),"") | AS59: =IF(BK59<>"",N(丸セパアングル１!AS54)+N(AS54),"") | BB59: =IF(BK59<>"",N(丸セパアングル１!BB54)+N(BB54),"") | BK59: =IF(AND(BK54<>"",丸セパアングル３!BK54=""),N(丸セパアングル１!BK54)+N(BK54),"")
B65: ※請求書締日【月末締・翌月５日 本社必着】（当社休日の場合は前倒し営業日）遅れた場合は翌月払となります。 | CT65: ２ページ
B67: ※出来高残のある場合は再度必着日迄に請求書を提出して下さい。
B69: ※太線枠内を全て記入して下さい。 | CL69: 担当 | CS69: 担当 | CZ69: 受付
B71: ※契約分については工事番号を記入して下さい。
B73: ※未契約分については内訳明細書を添付して下さい。
B75: ※中村土木担当区分は一般土木・ND土留・丸セパアングル・
B77: その他をシートごとにご記入の上それぞれ提出をお願いします。

Sheet 丸セパアングル３
B2: =総括請求書!B3 -> 中村土木株式会社 御中 | AM2: 請 求 書 | CA2: =総括請求書!H6 -> 郵便番号 -
CA4: =総括請求書!H7
CA6: =総括請求書!H8
B9: 下記のとおり請求申し上げます。 | BJ9: 中村土木担当区分 | BY9: 丸セパアングル | CJ9: 請求 | CO9: 2023 | CU9: 年 | CW9: 10 | CZ9: 月度
B13: 工事番号 | K13: 工事名 | AB13: 税率 | AE13: 契約金額 | AN13: 当月末 出来高％ | AS13: 未契約金額 | BB13: 既受領金額 | BK13: 当月請求額 | BT13: 査 定 金 額 | CC13: 相殺 | CL13: 残 額 | CU13: 総支払金額
AE16: 注文書取交金額 | CC16: 赤で記入
AB18: 10 | BK18: =IF(OR(AE18>0,AS18>0,BB18>0),(AE18+AS18)*AN18-BB18,"")
CU21: 契約印 | CX21: C・B
K22: 中村土木担当者名
AB24: 10 | BK24: =IF(OR(AE24>0,AS24>0,BB24>0),(AE24+AS24)*AN24-BB24,"")
CU27: 契約印 | CX27: C・B
K28: 中村土木担当者名
AB30: 10 | BK30: =IF(OR(AE30>0,AS30>0,BB30>0),(AE30+AS30)*AN30-BB30,"")
CU33: 契約印 | CX33: C・B
K34: 中村土木担当者名
AB36: 10 | BK36: =IF(OR(AE36>0,AS36>0,BB36>0),(AE36+AS36)*AN36-BB36,"")
CU39: 契約印 | CX39: C・B
K40: 中村土木担当者名
AB42: 10 | BK42: =IF(OR(AE42>0,AS42>0,BB42>0),(AE42+AS42)*AN42-BB42,"")
CU45: 契約印 | CX45: C・B
K46: 中村土木担当者名
AB48: 10 | BK48: =IF(OR(AE48>0,AS48>0,BB48>0),(AE48+AS48)*AN48-BB48,"")
CU51: 契約印 | CX51: C・B
K52: 中村土木担当者名
K54: 小 計 | AE54: =IF(SUM(AE18:AM53)>0,SUM(AE18:AM53),"") | AS54: =IF(SUM(AS18:BA53)>0,SUM(AS18:BA53),"") | BB54: =IF(SUM(BB18:BJ53)>0,SUM(BB18:BJ53),"") | BK54: =IF(SUM(BK18:BS53)>0,SUM(BK18:BS53),"")
B59: 次ページがある場合 合計は記入しない | K59: 合 計 | AE59: =IF(BK59<>"",N(丸セパアングル１!AE54)+N(丸セパアングル２!AE54)+N(AE54),"") | AS59: =IF(BK59<>"",N(丸セパアングル１!AS54)+N(丸セパアングル２!AS54)+N(AS54),"") | BB59: =IF(BK59<>"",N(丸セパアングル１!BB54)+N(丸セパアングル２!BB54)+N(BB54),"") | BK59: =IF(BK54<>"",N(丸セパアングル１!BK54)+N(丸セパアングル２!BK54)+N(BK54),"")
B65: ※請求書締日【月末締・翌月５日 本社必着】（当社休日の場合は前倒し営業日）遅れた場合は翌月払となります。 | CT65: ３ページ
B67: ※出来高残のある場合は再度必着日迄に請求書を提出して下さい。
B69: ※太線枠内を全て記入して下さい。 | CL69: 担当 | CS69: 担当 | CZ69: 受付
B71: ※契約分については工事番号を記入して下さい。
B73: ※未契約分については内訳明細書を添付して下さい。
B75: ※中村土木担当区分は一般土木・ND土留・丸セパアングル・
B77: その他をシートごとにご記入の上それぞれ提出をお願いします。

Sheet その他１
B2: =総括請求書!B3 -> 中村土木株式会社 御中 | AM2: 請 求 書 | CA2: =総括請求書!H6 -> 郵便番号 -
CA4: =総括請求書!H7
CA6: =総括請求書!H8
B9: 下記のとおり請求申し上げます。 | BJ9: 中村土木担当区分 | BY9: その他 | CJ9: 請求 | CO9: 2023 | CU9: 年 | CW9: 10 | CZ9: 月度
B13: 工事番号 | K13: 工事名 | AB13: 税率 | AE13: 契約金額 | AN13: 当月末 出来高％ | AS13: 未契約金額 | BB13: 既受領金額 | BK13: 当月請求額 | BT13: 査 定 金 額 | CC13: 相殺 | CL13: 残 額 | CU13: 総支払金額
AE16: 注文書取交金額 | CC16: 赤で記入
AB18: 10 | BK18: =IF(OR(AE18>0,AS18>0,BB18>0),(AE18+AS18)*AN18-BB18,"")
CU21: 契約印 | CX21: C・B
K22: 中村土木担当者名
AB24: 10 | BK24: =IF(OR(AE24>0,AS24>0,BB24>0),(AE24+AS24)*AN24-BB24,"")
CU27: 契約印 | CX27: C・B
K28: 中村土木担当者名
AB30: 10 | BK30: =IF(OR(AE30>0,AS30>0,BB30>0),(AE30+AS30)*AN30-BB30,"")
CU33: 契約印 | CX33: C・B
K34: 中村土木担当者名
AB36: 10 | BK36: =IF(OR(AE36>0,AS36>0,BB36>0),(AE36+AS36)*AN36-BB36,"")
CU39: 契約印 | CX39: C・B
K40: 中村土木担当者名
AB42: 10 | BK42: =IF(OR(AE42>0,AS42>0,BB42>0),(AE42+AS42)*AN42-BB42,"")
CU45: 契約印 | CX45: C・B
K46: 中村土木担当者名
AB48: 10 | BK48: =IF(OR(AE48>0,AS48>0,BB48>0),(AE48+AS48)*AN48-BB48,"")
CU51: 契約印 | CX51: C・B
K52: 中村土木担当者名
K54: 小 計 | AE54: =IF(SUM(AE18:AM53)>0,SUM(AE18:AM53),"") | AS54: =IF(SUM(AS18:BA53)>0,SUM(AS18:BA53),"") | BB54: =IF(SUM(BB18:BJ53)>0,SUM(BB18:BJ53),"") | BK54: =IF(SUM(BK18:BS53)>0,SUM(BK18:BS53),"")
B59: 次ページがある場合 合計は記入しない | K59: 合 計 | AE59: =IF(BK59<>"",AE54,"") | AS59: =IF(BK59<>"",AS54,"") | BB59: =IF(BK59<>"",BB54,"") | BK59: =IF(AND(BK54<>"",その他２!BK54<>""),"",BK54)
B65: ※請求書締日【月末締・翌月５日 本社必着】（当社休日の場合は前倒し営業日）遅れた場合は翌月払となります。 | CT65: １ページ
B67: ※出来高残のある場合は再度必着日迄に請求書を提出して下さい。
B69: ※太線枠内を全て記入して下さい。 | CL69: 担当 | CS69: 担当 | CZ69: 受付
B71: ※契約分については工事番号を記入して下さい。
B73: ※未契約分については内訳明細書を添付して下さい。
B75: ※中村土木担当区分は一般土木・ND土留・丸セパアングル・
B77: その他をシートごとにご記入の上それぞれを提出お願いします。

Sheet その他２
B2: =総括請求書!B3 -> 中村土木株式会社 御中 | AM2: 請 求 書 | CA2: =総括請求書!H6 -> 郵便番号 -
CA4: =総括請求書!H7
CA6: =総括請求書!H8
B9: 下記のとおり請求申し上げます。 | BJ9: 中村土木担当区分 | BY9: その他 | CJ9: 請求 | CO9: 2023 | CU9: 年 | CW9: 10 | CZ9: 月度
B13: 工事番号 | K13: 工事名 | AB13: 税率 | AE13: 契約金額 | AN13: 当月末 出来高％ | AS13: 未契約金額 | BB13: 既受領金額 | BK13: 当月請求額 | BT13: 査 定 金 額 | CC13: 相殺 | CL13: 残 額 | CU13: 総支払金額
AE16: 注文書取交金額 | CC16: 赤で記入
AB18: 10 | BK18: =IF(OR(AE18>0,AS18>0,BB18>0),(AE18+AS18)*AN18-BB18,"")
CU21: 契約印 | CX21: C・B
K22: 中村土木担当者名
AB24: 10 | BK24: =IF(OR(AE24>0,AS24>0,BB24>0),(AE24+AS24)*AN24-BB24,"")
CU27: 契約印 | CX27: C・B
K28: 中村土木担当者名
AB30: 10 | BK30: =IF(OR(AE30>0,AS30>0,BB30>0),(AE30+AS30)*AN30-BB30,"")
CU33: 契約印 | CX33: C・B
K34: 中村土木担当者名
AB36: 10 | BK36: =IF(OR(AE36>0,AS36>0,BB36>0),(AE36+AS36)*AN36-BB36,"")
CU39: 契約印 | CX39: C・B
K40: 中村土木担当者名
AB42: 10 | BK42: =IF(OR(AE42>0,AS42>0,BB42>0),(AE42+AS42)*AN42-BB42,"")
CU45: 契約印 | CX45: C・B
K46: 中村土木担当者名
AB48: 10 | BK48: =IF(OR(AE48>0,AS48>0,BB48>0),(AE48+AS48)*AN48-BB48,"")
CU51: 契約印 | CX51: C・B
K52: 中村土木担当者名
K54: 小 計 | AE54: =IF(SUM(AE18:AM53)>0,SUM(AE18:AM53),"") | AS54: =IF(SUM(AS18:BA53)>0,SUM(AS18:BA53),"") | BB54: =IF(SUM(BB18:BJ53)>0,SUM(BB18:BJ53),"") | BK54: =IF(SUM(BK18:BS53)>0,SUM(BK18:BS53),"")
B59: 次ページがある場合 合計は記入しない | K59: 合 計 | AE59: =IF(BK59<>"",N(その他１!AE54)+N(AE54),"") | AS59: =IF(BK59<>"",N(その他１!AS54)+N(AS54),"") | BB59: =IF(BK59<>"",N(その他１!BB54)+N(BB54),"") | BK59: =IF(AND(BK54<>"",その他３!BK54=""),N(その他１!BK54)+N(BK54),"")
B65: ※請求書締日【月末締・翌月５日 本社必着】（当社休日の場合は前倒し営業日）遅れた場合は翌月払となります。 | CT65: ２ページ
B67: ※出来高残のある場合は再度必着日迄に請求書を提出して下さい。
B69: ※太線枠内を全て記入して下さい。 | CL69: 担当 | CS69: 担当 | CZ69: 受付
B71: ※契約分については工事番号を記入して下さい。
B73: ※未契約分については内訳明細書を添付して下さい。
B75: ※中村土木担当区分は一般土木・ND土留・丸セパアングル・
B77: その他をシートごとにご記入の上それぞれ提出をお願いします。

Sheet その他３
B2: =総括請求書!B3 -> 中村土木株式会社 御中 | AM2: 請 求 書 | CA2: =総括請求書!H6 -> 郵便番号 -
CA4: =総括請求書!H7
CA6: =総括請求書!H8
B9: 下記のとおり請求申し上げます。 | BJ9: 中村土木担当区分 | BY9: その他 | CJ9: 請求 | CO9: 2023 | CU9: 年 | CW9: 10 | CZ9: 月度
B13: 工事番号 | K13: 工事名 | AB13: 税率 | AE13: 契約金額 | AN13: 当月末 出来高％ | AS13: 未契約金額 | BB13: 既受領金額 | BK13: 当月請求額 | BT13: 査 定 金 額 | CC13: 相殺 | CL13: 残 額 | CU13: 総支払金額
AE16: 注文書取交金額 | CC16: 赤で記入
AB18: 10 | BK18: =IF(OR(AE18>0,AS18>0,BB18>0),(AE18+AS18)*AN18-BB18,"")
CU21: 契約印 | CX21: C・B
K22: 中村土木担当者名
AB24: 10 | BK24: =IF(OR(AE24>0,AS24>0,BB24>0),(AE24+AS24)*AN24-BB24,"")
CU27: 契約印 | CX27: C・B
K28: 中村土木担当者名
AB30: 10 | BK30: =IF(OR(AE30>0,AS30>0,BB30>0),(AE30+AS30)*AN30-BB30,"")
CU33: 契約印 | CX33: C・B
K34: 中村土木担当者名
AB36: 10 | BK36: =IF(OR(AE36>0,AS36>0,BB36>0),(AE36+AS36)*AN36-BB36,"")
CU39: 契約印 | CX39: C・B
K40: 中村土木担当者名
AB42: 10 | BK42: =IF(OR(AE42>0,AS42>0,BB42>0),(AE42+AS42)*AN42-BB42,"")
CU45: 契約印 | CX45: C・B
K46: 中村土木担当者名
AB48: 10 | BK48: =IF(OR(AE48>0,AS48>0,BB48>0),(AE48+AS48)*AN48-BB48,"")
CU51: 契約印 | CX51: C・B
K52: 中村土木担当者名
K54: 小 計 | AE54: =IF(SUM(AE18:AM53)>0,SUM(AE18:AM53),"") | AS54: =IF(SUM(AS18:BA53)>0,SUM(AS18:BA53),"") | BB54: =IF(SUM(BB18:BJ53)>0,SUM(BB18:BJ53),"") | BK54: =IF(SUM(BK18:BS53)>0,SUM(BK18:BS53),"")
B59: 次ページがある場合 合計は記入しない | K59: 合 計 | AE59: =IF(BK59<>"",N(一般土木１!AE54)+N(一般土木２!AE54)+N(AE54),"") | AS59: =IF(BK59<>"",N(一般土木１!AS54)+N(一般土木２!AS54)+N(AS54),"") | BB59: =IF(BK59<>"",N(一般土木１!BB54)+N(一般土木２!BB54)+N(BB54),"") | BK59: =IF(BK54<>"",N(一般土木１!BK54)+N(一般土木２!BK54)+N(BK54),"")
B65: ※請求書締日【月末締・翌月５日 本社必着】（当社休日の場合は前倒し営業日）遅れた場合は翌月払となります。 | CT65: ３ページ
B67: ※出来高残のある場合は再度必着日迄に請求書を提出して下さい。
B69: ※太線枠内を全て記入して下さい。 | CL69: 担当 | CS69: 担当 | CZ69: 受付
B71: ※契約分については工事番号を記入して下さい。
B73: ※未契約分については内訳明細書を添付して下さい。
B75: ※中村土木担当区分は一般土木・ND土留・丸セパアングル・
B77: その他をシートごとにご記入の上それぞれ提出をお願いします。

Sheet 非課税分
B2: =総括請求書!B3 -> 中村土木株式会社 御中 | AM2: 請 求 書 | CA2: =総括請求書!H6 -> 郵便番号 -
CA4: =総括請求書!H7
CA6: =総括請求書!H8
B9: 下記のとおり請求申し上げます。 | BJ9: 中村土木担当区分 | BY9: 非課税分 | CJ9: 請求 | CO9: 2023 | CU9: 年 | CW9: 10 | CZ9: 月度
B13: 工事番号 | K13: 工事名 | AB13: 税率 | AE13: 契約金額 | AN13: 当月末 出来高％ | AS13: 未契約金額 | BB13: 既受領金額 | BK13: 当月請求額 | BT13: 査 定 金 額 | CC13: 相殺 | CL13: 残 額 | CU13: 総支払金額
AE16: 注文書取交金額 | CC16: 赤で記入
AB18: 0 | BK18: =IF(OR(AE18>0,AS18>0,BB18>0),(AE18+AS18)*AN18-BB18,"")
CU21: 契約印 | CX21: C・B
B22: 一般土木 | K22: 中村土木担当者名
AB24: 0 | BK24: =IF(OR(AE24>0,AS24>0,BB24>0),(AE24+AS24)*AN24-BB24,"")
CU27: 契約印 | CX27: C・B
K28: 中村土木担当者名
AB30: 0 | BK30: =IF(OR(AE30>0,AS30>0,BB30>0),(AE30+AS30)*AN30-BB30,"")
CU33: 契約印 | CX33: C・B
K34: 中村土木担当者名
AB36: 0 | BK36: =IF(OR(AE36>0,AS36>0,BB36>0),(AE36+AS36)*AN36-BB36,"")
CU39: 契約印 | CX39: C・B
K40: 中村土木担当者名
AB42: 0 | BK42: =IF(OR(AE42>0,AS42>0,BB42>0),(AE42+AS42)*AN42-BB42,"")
CU45: 契約印 | CX45: C・B
K46: 中村土木担当者名
AB48: 0 | BK48: =IF(OR(AE48>0,AS48>0,BB48>0),(AE48+AS48)*AN48-BB48,"")
CU51: 契約印 | CX51: C・B
K52: 中村土木担当者名
K54: 小 計 | AE54: =IF(SUM(AE18:AM53)>0,SUM(AE18:AM53),"") | AS54: =IF(SUM(AS18:BA53)>0,SUM(AS18:BA53),"") | BB54: =IF(SUM(BB18:BJ53)>0,SUM(BB18:BJ53),"") | BK54: =SUM(BK18:BS53) -> 0
B59: 次ページがある場合 合計は記入しない | K59: 合 計 | AE59: =IF(AE54<>"",AE54,"") | AS59: =IF(AS54<>"",AS54,"") | BB59: =IF(BB54<>"",BB54,"") | BK59: =BK54 -> 0
B65: ※請求書締日【月末締・翌月５日 本社必着】（当社休日の場合は前倒し営業日）遅れた場合は翌月払となります。 | CT65: 1ページ
B67: ※太線枠内を全て記入して下さい。
B69: ※内訳明細書を添付して下さい。 | CL69: 担当 | CS69: 担当 | CZ69: 受付
B71: ※工事番号の下段でプルダウンにて担当工事区分を選択して下さい。
